BEGIN:VCALENDAR
PRODID:-//Harcourts RATA & Co//Website//ENG
VERSION:2.0
CALSCALE:GREGORIAN
METHD:PUBLISH
BEGIN:VEVENT
ORGANIZER:Harcourts RATA & Co
DTSTART:20260420T082500
LOCATION:14 Wimmera Crescent, Wollert
TRANSP:OPAQUE
UID:0.88407100 1776673558
DTSTAMP:20260420T082558Z
SUMMARY:Harcourts RATA & Co - Auction
DESCRIPTION;ENCODING=QUOTED-PRINTABLE: Auction Time for Wollert property
BEGIN:VALARM
TRIGGER:PT15M
ACTION:DISPLAY
DESCRIPTION:Harcourts RATA & Co Website
END:VALARM
END:VEVENT
END:VCALENDAR
